BEGIN:VCALENDAR
VERSION:2.0
PRODID:-// - ECPv6.15.20//NONSGML v1.0//EN
CALSCALE:GREGORIAN
METHOD:PUBLISH
X-ORIGINAL-URL:https://gruental-oberafferbach.de
X-WR-CALDESC:Veranstaltungen für 
REFRESH-INTERVAL;VALUE=DURATION:PT1H
X-Robots-Tag:noindex
X-PUBLISHED-TTL:PT1H
BEGIN:VTIMEZONE
TZID:Europe/Berlin
BEGIN:DAYLIGHT
TZOFFSETFROM:+0100
TZOFFSETTO:+0200
TZNAME:CEST
DTSTART:20240331T010000
END:DAYLIGHT
BEGIN:STANDARD
TZOFFSETFROM:+0200
TZOFFSETTO:+0100
TZNAME:CET
DTSTART:20241027T010000
END:STANDARD
BEGIN:DAYLIGHT
TZOFFSETFROM:+0100
TZOFFSETTO:+0200
TZNAME:CEST
DTSTART:20250330T010000
END:DAYLIGHT
BEGIN:STANDARD
TZOFFSETFROM:+0200
TZOFFSETTO:+0100
TZNAME:CET
DTSTART:20251026T010000
END:STANDARD
BEGIN:DAYLIGHT
TZOFFSETFROM:+0100
TZOFFSETTO:+0200
TZNAME:CEST
DTSTART:20260329T010000
END:DAYLIGHT
BEGIN:STANDARD
TZOFFSETFROM:+0200
TZOFFSETTO:+0100
TZNAME:CET
DTSTART:20261025T010000
END:STANDARD
END:VTIMEZONE
BEGIN:VEVENT
DTSTART;TZID=Europe/Berlin:20250809T170000
DTEND;TZID=Europe/Berlin:20250809T235900
DTSTAMP:20260421T012600
CREATED:20250127T202713Z
LAST-MODIFIED:20250728T193406Z
UID:2651-1754758800-1754783940@gruental-oberafferbach.de
SUMMARY:Selesfest
DESCRIPTION:Am Samstag\, 09.08.2025 findet ab 17 Uhr unser traditionelles Selesfest auf der Wiese hinter dem Schützenhaus statt. \nFür das leibliche Wohl ist gesorgt! Es gibt herzhaftes vom Grill und zum Nachtisch Kaffee & Kuchen. Im Ausschank frisch gezapftes Schwindbier! \n  \nWir freuen uns auf Ihr/Euer kommen!
URL:https://gruental-oberafferbach.de/event/selesfest-3/
LOCATION:Schützenhaus
END:VEVENT
END:VCALENDAR